BEGIN:VCALENDAR
VERSION:2.0
PRODID:-//KZ AligN Pilates - ECPv6.15.20//NONSGML v1.0//EN
CALSCALE:GREGORIAN
METHOD:PUBLISH
X-WR-CALNAME:KZ AligN Pilates
X-ORIGINAL-URL:https://kzalignpilates.com
X-WR-CALDESC:Events for KZ AligN Pilates
REFRESH-INTERVAL;VALUE=DURATION:PT1H
X-Robots-Tag:noindex
X-PUBLISHED-TTL:PT1H
BEGIN:VTIMEZONE
TZID:Asia/Krasnoyarsk
BEGIN:STANDARD
TZOFFSETFROM:+0700
TZOFFSETTO:+0700
TZNAME:+07
DTSTART:20240101T000000
END:STANDARD
END:VTIMEZONE
BEGIN:VEVENT
DTSTART;TZID=Asia/Krasnoyarsk:20260122T190000
DTEND;TZID=Asia/Krasnoyarsk:20260122T200000
DTSTAMP:20260424T053240
CREATED:20260106T061622Z
LAST-MODIFIED:20260106T061622Z
UID:1199-1769108400-1769112000@kzalignpilates.com
SUMMARY:Pilates Instructor Training Thailand: Virtual Open House
DESCRIPTION:Pilates Instructor Training in Bangkok and Chiang Mai in 2026 \n Curious about becoming a Pilates instructor? Join us for an informative Open House online on Google Meet. Learn about our upcoming Pilates instructor training courses in Bangkok and Chiang Mai\, and meet the founder\, Kru Kea.  \nKea opened KZ Pilates in late 2016\, and has since established a second location in Bangkok in 2024. Over the past 9 years\, she has successfully trained 5 new generations of instructors\, and is excited to share this opportunity once again in 2026. Join us for this Open House to connect with us and discover why training with Kea is a great way to start your Pilates instructor journey. \nThere is no cost to attend the virtual open house. \nPlease register in advance here: https://tinyurl.com/bdfb3mw5 \n🗓️ Thursday\, January 22\, 2026 \n ⏲️ 7:00 pm to 8:00 pm \n 📍Online on Google Meet (We will send you the link after you register.) \n  \nหลักสูตรอบรมครูสอนพิลาทิส ณ กรุงเทพฯ และเชียงใหม่ ปี 2569 นี้ \nเข้าร่วมงานวันเปิดบ้านออนไลน์ ก่อนที่การฝึกอบรมครูสอนพิลาทิสจะเริ่มขึ้นในเร็วๆ นี้ ซึ่งตอนนี้เราได้เริ่มเปิดรับสมัครแล้ว การฝึกอบรมจัดขึ้นใน 2 สถานที่ คือ กรุงเทพฯ และเชียงใหม่ คุณสามรถเลือกที่คุณสะดวกเรียนได้ งานนี้ไม่มีค่าใช้จ่าย \n คุณอยากรู้เกี่ยวกับการเป็นครูผู้สอนพิลาทิสไหม? คุณสามารถเข้าร่วมกิจกรรม Open House ออนไลน์ผ่าน Google Meet ที่ให้ความรู้กับเรา เรียนรู้เกี่ยวกับหลักสูตรการฝึกอบรมครูสอนพิลาทิสรุ่นใหม่ที่กำลังจะมีขึ้น และพบกับครูเก๋ ผู้ก่อตั้งสตูดิโอ KZ Pilates ครูเก๋เริ่มก่อตั้งสาขาแรกในปี 2559 และต่อมาได้เปิดสาขาที่สองในกรุงเทพฯ ในปี 2567 ตลอดระยะเวลา 9 ปีที่ผ่านมา ครูเก๋ได้ผลิตครูพิลาทิสรุ่นใหม่ที่ประสบความสำเร็จมากถึง 5 รุ่น และตอนนี้มีโอกาสดีที่จะเปิดเทรนครูอีกครั้งในปี 2569 เข้าร่วม Open House ครั้งนี้เพื่อเชื่อมต่อกับเรา และค้นพบว่าทำไมการฝึกพิลาทิสกับครูเก๋จึงเป็นทางเลือกที่ยอดเยี่ยมในการเริ่มต้นเส้นทางครูพิลาทิสของคุณ \n กรุณาลงทะเบียนล่วงหน้าที่นี่:  https://tinyurl.com/bdfb3mw5 \n🗓️ วันพฤหัสบดี 22 มกราคม 2569 \n ⏲️ เวลา 19.00 – 20.00 \n📍การประชุมออนไลน์ผ่าน Google Meet (เราจะส่งลิงก์ให้คุณ) \nOur Line :  https://page.line.me/kzpilates \nOur website:  kzalignpilates.com
URL:https://kzalignpilates.com/event/pilates-instructor-training-thailand-virtual-open-house/
LOCATION:Online
CATEGORIES:Open House
ATTACH;FMTTYPE=image/png:https://kzalignpilates.com/wp-content/uploads/2026/01/Virtual-Open-House-Facebook-Event-1200-x-628-px-1.png
END:VEVENT
BEGIN:VEVENT
DTSTART;TZID=Asia/Krasnoyarsk:20251221T100000
DTEND;TZID=Asia/Krasnoyarsk:20251221T120000
DTSTAMP:20260424T053240
CREATED:20251211T064753Z
LAST-MODIFIED:20251211T064753Z
UID:1191-1766311200-1766318400@kzalignpilates.com
SUMMARY:Pilates Instructor Training Open House Bangkok 21 December
DESCRIPTION:(English below) \n\n\nเข้าร่วมงานวันเปิดบ้าน ก่อนที่การฝึกอบรมครูสอนพิลาทิสจะเริ่มขึ้นในเร็วๆนี้ ซึ่งตอนนี้เราได้เริ่มเปิดรับสมัครแล้ว งานนี้ไม่มีค่าใช้จ่าย \n\n\n คุณอยากรู้เกี่ยวกับการเป็นครูผู้สอนพิลาทิสไหม? คุณสามารถเข้าร่วมกิจกรรม Open House ที่ให้ความรู้กับเราที่สตูดิโอ KZ Align Pilates ที่กรุงเทพ คุณสามารถเรียนรู้สิ่งที่จำเป็นและสำคัญเกี่ยวกับหลักสูตรการฝึกอบรมครูสอนพิลาทิสที่กำลังจะมีขึ้นในเร็วๆนี้ รวมทั้งได้ชมสตูดิโอและสิ่งอำนวยความสะดวก ซึ่งคุณจะได้พบกับครูเก๋ ผู้ก่อตั้งสตูดิโอสาขาแรกเชียงใหม่ยาวต่อเนื่องถึง 8 ปี และผลิตคนเรียนเป็นครูที่ประสบความสำเร็จมาแล้วมากถึง 5 รุ่น และตอนนี้เป็นโอกาสดีที่จะเปิดเทรนครูให้ที่กรุงเทพเช่นกัน ค้นหาว่าเหตุใดการฝึกพิลาทิสกับครูเก๋ ที่เคซี อไลน์ พิลาทิส จึงเป็นอีกทางเลือกหนึ่งที่จะเริ่มต้นเป็นครูพิลาทิสที่สำเร็จเช่นกัน \n\n\n กรุณาลงทะเบียนล่วงหน้าที่นี่: https://tinyurl.com/m3xnnf4d \n\n\n วันอาทิตย์ที่ 21 ธันวาคม 2568 เวลา 10.00 – 11.45 Jasmine Space ชั้น 2 ซอยอิสรภาพ 20 (ถัดจากบิ๊กซี อิสรภาพ) \n\n\n เพื่อความสะดวก เราแนะนำให้จอดรถที่บิ๊กซีอิสรภาพ ( เดินมาเพียง 1 นาที) เนื่องจากซอยค่อนข้างเล็กและที่ตึกJasmine สามารถจอดรถประมาณ 5 คัน Google Maps Big C (เดินมาเพียง 1 นาที)- https://maps.app.goo.gl/NDeihsyzQ4U5tjt8A… Google Maps KZ AligN Pilates studio (inside Jasmine Space)- https://maps.app.goo.gl/rt546HfK7w1JzCi69…**ให้เข้าทางด้านหน้าซอยอิสรภาพ 20 เท่านั้น** \n\n\n Curious about becoming a Pilates instructor? Join us for an informative Open House at the KZ AligN Bangkok studio. Learn about our upcoming Pilates instructor training course\, tour the studio and facilities\, and meet the founder\, Kru Kea. Kea opened her first Pilates studio more than 8 years ago in Chiang Mai\, and has since trained 5 generations of successful instructors. Following the opening of a second studio location in Bangkok last year\, she is excited to share this opportunity here in Bangkok. Come to the Open House to learn more and discover why training with Kea is a great way to start your Pilates instructor journey. There is no cost to attend the open house. \n\n\nPlease register in advance here: https://tinyurl.com/m3xnnf4d \n\n\n Sunday\, December 21\, 2025 10:00 am to 11:45 am Jasmine Space 2nd floor\, Itsaraphap 20 (next to Big C Itsaraphap) \n\n We recommend that you park at Big C Itsaraphap- 1 minute walking from our studio inside Jasmine Space. Jasmine Space has 5 parking spots available. Google Maps Big C (1 minute walk)- https://maps.app.goo.gl/NDeihsyzQ4U5tjt8A… Google Maps KZ AligN Pilates studio (inside Jasmine Space) – https://maps.app.goo.gl/rt546HfK7w1JzCi69…***If you park at Jasmine Space\, please drive through the front end of Soi Itsaraphap 20 as the back end is narrow***\n\nOur Line :  https://page.line.me/kzpilates
URL:https://kzalignpilates.com/event/pilates-instructor-training-open-house-bangkok-21-december/
LOCATION:KZ AligN Pilates Bangkok\, 2/3 Soi Itsaraphap 20 T. Wat Kanlaya\, Thon Buri\, Bangkok\, 10600\, Thailand
CATEGORIES:Open House
ATTACH;FMTTYPE=image/png:https://kzalignpilates.com/wp-content/uploads/2025/12/21-Dec-BKK-Open-House-Facebook-Event-1200-x-628-px.png
END:VEVENT
BEGIN:VEVENT
DTSTART;TZID=Asia/Krasnoyarsk:20251220T100000
DTEND;TZID=Asia/Krasnoyarsk:20251220T233000
DTSTAMP:20260424T053240
CREATED:20251211T063558Z
LAST-MODIFIED:20251211T064606Z
UID:1187-1766224800-1766273400@kzalignpilates.com
SUMMARY:Pilates Instructor Training Open House Chiang Mai 20 December
DESCRIPTION:(English below) \n\n\nเข้าร่วมงานวันเปิดบ้าน ก่อนที่การฝึกอบรมครูสอนพิลาทิสจะเริ่มขึ้นในเร็วๆนี้ ซึ่งตอนนี้เราได้เริ่มเปิดรับสมัครแล้ว งานนี้ไม่มีค่าใช้จ่าย \n\n\n คุณอยากรู้เกี่ยวกับการเป็นครูผู้สอนพิลาทิสไหม? คุณสามารถเข้าร่วมกิจกรรม Open House ที่ให้ความรู้กับเราที่สตูดิโอ KZ Pilates คุณสามารถเรียนรู้สิ่งที่จำเป็นและสำคัญเกี่ยวกับหลักสูตรการฝึกอบรมครูสอนพิลาทิสที่กำลังจะมีขึ้นในเร็วๆนี้ รวมทั้งได้ชมสตูดิโอและสิ่งอำนวยความสะดวก ซึ่งคุณจะได้พบกับครูเก๋ ผู้ก่อตั้งสตูดิโอสาขาแรกเชียงใหม่ยาวต่อเนื่องถึง 8 ปี และผลิตคนเรียนเป็นครูที่ประสบความสำเร็จมาแล้วมากถึง 5 รุ่น และตอนนี้เป็นโอกาสดีที่จะเปิดเทรนครูอีกรุ่นเช่นกัน ค้นหาว่าเหตุใดการฝึกพิลาทิสกับครูเก๋ ที่เคซี อไลน์ พิลาทิส จึงเป็นอีกทางเลือกหนึ่งที่จะเริ่มต้นเป็นครูพิลาทิสที่สำเร็จในสิ่งที่คุณต้องการ \n\n\n กรุณาลงทะเบียนล่วงหน้าที่นี่: https://tinyurl.com/4bdpecba \n\n\n วันเสาร์ 20 ธันวาคม 2568 เวลา 10.00 – 11.30KZ Pilates\, Star Avenue 5\, เชียงใหม่ (ทางด้านซ้ายของ 7-11) \n\n\n มีที่จอดรถด้านหน้าร้าน KZ Pilates หรือบริเวณใดก็ได้ในลานจอดรถ Star Avenue 5 Google Maps KZ Pilates studio – https://maps.app.goo.gl/D8Wx3wNsB95HQQbv5?g_st=ipc \n\n Curious about becoming a Pilates instructor? Join us for an informative Open House at the KZ Pilates studio. Learn about our upcoming Pilates instructor training course\, tour the studio\, and meet the founder\, Kru Kea. Kea opened KZ Pilates in late 2016\, and has since established a second location in Bangkok in 2024. Over the past 8 years\, she has successfully trained 5 new generations of instructors\, and is excited to share this opportunity once again here in Chiang Mai. Come to the Open House to connect with us and discover why training with Kea is a great way to start your Pilates instructor journey.\n\nThere is no cost to attend the open house. \n\n\nPlease register in advance here: https://tinyurl.com/4bdpecba \n\n\n Saturday\, December 20\, 2025 10:00 am to 11:30am KZ Pilates Studio\, Star Avenue 5\, Chiang Mai (to the left of 7-11) \n\n Parking is available directly in front of KZ Pilates or anywhere in the Star Avenue 5 lot. Google Maps KZ Pilates studio – https://maps.app.goo.gl/D8Wx3wNsB95HQQbv5?g_st=ipc\n\nOur Line :  https://page.line.me/kzpilates
URL:https://kzalignpilates.com/event/pilates-instructor-training-open-house-chiang-mai-20-december/
LOCATION:KZ Pilates Chiang Mai\, Star Avenue 5 169/46 T. San Pak Wan Hang Dong\, Chiang Mai\, Chiang Mai\, 50230\, Thailand
CATEGORIES:Open House
ATTACH;FMTTYPE=image/png:https://kzalignpilates.com/wp-content/uploads/2025/12/20-Dec-CM-Open-House-Facebook-Event-1200-x-628-px.png
END:VEVENT
BEGIN:VEVENT
DTSTART;TZID=Asia/Krasnoyarsk:20251130T100000
DTEND;TZID=Asia/Krasnoyarsk:20251130T120000
DTSTAMP:20260424T053240
CREATED:20251115T044422Z
LAST-MODIFIED:20251115T044422Z
UID:1162-1764496800-1764504000@kzalignpilates.com
SUMMARY:เปิดบ้านครอสการอบรม ครูสอนพิลาทิส 30 พฤศจิกายน 2568
DESCRIPTION:เข้าร่วมงานวันเปิดบ้าน ก่อนที่การฝึกอบรมครูสอนพิลาทิสจะเริ่มขึ้นในเร็วๆนี้ ซึ่งตอนนี้เราได้เริ่มเปิดรับสมัครแล้ว งานนี้ไม่มีค่าใช้จ่าย \n\n\n คุณอยากรู้เกี่ยวกับการเป็นครูผู้สอนพิลาทิสไหม? คุณสามารถเข้าร่วมกิจกรรม Open House ที่ให้ความรู้กับเราที่สตูดิโอ KZ Align Pilates ที่กรุงเทพ คุณสามารถเรียนรู้สิ่งที่จำเป็นและสำคัญเกี่ยวกับหลักสูตรการฝึกอบรมครูสอนพิลาทิสที่กำลังจะมีขึ้นในเร็วๆนี้ รวมทั้งได้ชมสตูดิโอและสิ่งอำนวยความสะดวก ซึ่งคุณจะได้พบกับครูเก๋ ผู้ก่อตั้งสตูดิโอสาขาแรกเชียงใหม่ยาวต่อเนื่องถึง 8 ปี และผลิตคนเรียนเป็นครูที่ประสบความสำเร็จมาแล้วมากถึง 5 รุ่น และตอนนี้เป็นโอกาสดีที่จะเปิดเทรนครูให้ที่กรุงเทพเช่นกัน ค้นหาว่าเหตุใดการฝึกพิลาทิสกับครูเก๋ ที่เคซี อไลน์ พิลาทิส จึงเป็นอีกทางเลือกหนึ่งที่จะเริ่มต้นเป็นครูพิลาทิสที่สำเร็จเช่นกัน \n\n\n กรุณาลงทะเบียนล่วงหน้าที่นี่: https://tinyurl.com/59jxk479 \n\n\n วันอาทิตย์ที่ 30 พฤศจิกายน 2568 เวลา 10.00 โมงเช้า ถึง เที่ยง Jasmine Space ชั้น 2 ซอยอิสรภาพ 20 (ถัดจากบิ๊กซี อิสรภาพ) \n\n เพื่อความสะดวก เราแนะนำให้จอดรถที่บิ๊กซีอิสรภาพ ( เดินมาเพียง 1 นาที) เนื่องจากซอยค่อนข้างเล็กและที่ตึกJasmine สามารถจอดรถประมาณ 5 คัน Google Maps Big C (เดินมาเพียง 1 นาที)- https://maps.app.goo.gl/NDeihsyzQ4U5tjt8A… Google Maps KZ AligN Pilates studio (inside Jasmine Space)- https://maps.app.goo.gl/rt546HfK7w1JzCi69…\n**ให้เข้าทางด้านหน้าซอยอิสรภาพ 20 เท่านั้น**\n\nFor more information\, go to อบรมครูผู้สอน
URL:https://kzalignpilates.com/event/%e0%b9%80%e0%b8%9b%e0%b8%b4%e0%b8%94%e0%b8%9a%e0%b9%89%e0%b8%b2%e0%b8%99%e0%b8%84%e0%b8%a3%e0%b8%ad%e0%b8%aa%e0%b8%81%e0%b8%b2%e0%b8%a3%e0%b8%ad%e0%b8%9a%e0%b8%a3%e0%b8%a1-%e0%b8%84%e0%b8%a3-2/
LOCATION:KZ AligN Pilates Bangkok\, 2/3 Soi Itsaraphap 20 T. Wat Kanlaya\, Thon Buri\, Bangkok\, 10600\, Thailand
CATEGORIES:Open House
ATTACH;FMTTYPE=image/png:https://kzalignpilates.com/wp-content/uploads/2025/11/30-November-House-Facebook-Event-1200-x-628-px-1.png
END:VEVENT
BEGIN:VEVENT
DTSTART;TZID=Asia/Krasnoyarsk:20251116T100000
DTEND;TZID=Asia/Krasnoyarsk:20251116T120000
DTSTAMP:20260424T053240
CREATED:20251016T032351Z
LAST-MODIFIED:20251016T032351Z
UID:1096-1763287200-1763294400@kzalignpilates.com
SUMMARY:Pilates Instructor Training Chiang Mai Open House
DESCRIPTION:เปิดบ้านครอสการอบรม ครูสอนพิลาทิส\n(English below) \nเข้าร่วมงานวันเปิดบ้าน ก่อนที่การฝึกอบรมครูสอนพิลาทิสจะเริ่มขึ้นในเร็วๆนี้ ซึ่งตอนนี้เราได้เริ่มเปิดรับสมัครแล้ว งานนี้ไม่มีค่าใช้จ่าย \n🌱 คุณอยากรู้เกี่ยวกับการเป็นครูผู้สอนพิลาทิสไหม? คุณสามารถเข้าร่วมกิจกรรม Open House ที่ให้ความรู้กับเราที่สตูดิโอ KZ Pilates ที่กรุงเทพ คุณสามารถเรียนรู้สิ่งที่จำเป็นและสำคัญเกี่ยวกับหลักสูตรการฝึกอบรมครูสอนพิลาทิสที่กำลังจะมีขึ้นในเร็วๆนี้ รวมทั้งได้ชมสตูดิโอและสิ่งอำนวยความสะดวก ซึ่งคุณจะได้พบกับครูเก๋ ผู้ก่อตั้งสตูดิโอสาขาแรกเชียงใหม่ยาวต่อเนื่องถึง 8 ปี และผลิตคนเรียนเป็นครูที่ประสบความสำเร็จมาแล้วมากถึง 5 รุ่น และตอนนี้เป็นโอกาสดีที่จะเปิดเทรนครูให้ที่กรุงเทพเช่นกัน ค้นหาว่าเหตุใดการฝึกพิลาทิสกับครูเก๋ ที่เคซี อไลน์ พิลาทิส จึงเป็นอีกทางเลือกหนึ่งที่จะเริ่มต้นเป็นครูพิลาทิสที่สำเร็จเช่นกัน \n🙏 กรุณาลงทะเบียนล่วงหน้าที่นี่: https://forms.gle/8a33bvXAsxSHNaJN8 \n📆 วันอาทิตย์ที่ 16 พฤศจิกายน 2568\n🕰️ เวลา 10.00 โมงเช้า ถึง เที่ยง\n📍KZ Pilates\, Star Avenue 5\, เชียงใหม่ (ทางด้านซ้ายของ 7-11) \n🚙 มีที่จอดรถด้านหน้าร้าน KZ Pilates หรือบริเวณใดก็ได้ในลานจอดรถ Star Avenue 5 \n🌱 Curious about becoming a Pilates instructor? Join us for an informative Open House at the KZ Pilates studio. Learn about our upcoming Pilates instructor training course in Chiang Mai\, tour the studio\, and meet the founder\, Kru Kea. Kea opened KZ Pilates in late 2016\, and has since established a second location in Bangkok in 2024. Over the past 8 years\, she has successfully trained 5 new generations of instructors\, and is excited to share this opportunity once again here in Chiang Mai. Come connect with us and discover why training with Kea is a great way to start your Pilates instructor journey. \nThere is no cost to attend the open house. \n🙏Please register in advance here: https://forms.gle/8a33bvXAsxSHNaJN8 \n📆 Sunday\, 16 November\, 2025\n🕰️ 10:00 am to 12:00 noon\n📍 KZ Pilates Studio\, Star Avenue 5\, Chiang Mai (to the left of 7-11) \n🚙 Parking is available directly in front of KZ Pilates or anywhere in the Star Avenue 5 lot.\n🗺️ Google Maps KZ Pilates studio – https://maps.app.goo.gl/D8Wx3wNsB95HQQbv5?g_st=ipc \nFor more information on our instructor training program\, go here. \nOur Line : 📲 https://page.line.me/kzpilates
URL:https://kzalignpilates.com/event/pilates-instructor-training-chiang-mai-open-house/
LOCATION:KZ Pilates Chiang Mai\, Star Avenue 5 169/46 T. San Pak Wan Hang Dong\, Chiang Mai\, Chiang Mai\, 50230\, Thailand
ATTACH;FMTTYPE=image/png:https://kzalignpilates.com/wp-content/uploads/2025/10/CM-16-Nov-House-FB-Event-1200-x-628-px-1.png
END:VEVENT
BEGIN:VEVENT
DTSTART;TZID=Asia/Krasnoyarsk:20251102T100000
DTEND;TZID=Asia/Krasnoyarsk:20251102T120000
DTSTAMP:20260424T053240
CREATED:20251016T034433Z
LAST-MODIFIED:20251016T034433Z
UID:1102-1762077600-1762084800@kzalignpilates.com
SUMMARY:Pilates Instructor Training Bangkok Open House
DESCRIPTION:เปิดบ้านครอสการอบรม ครูสอนพิลาทิส(English below) \n\n\nเข้าร่วมงานวันเปิดบ้าน ก่อนที่การฝึกอบรมครูสอนพิลาทิสจะเริ่มขึ้นในเร็วๆนี้ ซึ่งตอนนี้เราได้เริ่มเปิดรับสมัครแล้ว งานนี้ไม่มีค่าใช้จ่าย \n\n\n คุณอยากรู้เกี่ยวกับการเป็นครูผู้สอนพิลาทิสไหม? คุณสามารถเข้าร่วมกิจกรรม Open House ที่ให้ความรู้กับเราที่สตูดิโอ KZ Align Pilates ที่กรุงเทพ คุณสามารถเรียนรู้สิ่งที่จำเป็นและสำคัญเกี่ยวกับหลักสูตรการฝึกอบรมครูสอนพิลาทิสที่กำลังจะมีขึ้นในเร็วๆนี้ รวมทั้งได้ชมสตูดิโอและสิ่งอำนวยความสะดวก ซึ่งคุณจะได้พบกับครูเก๋ ผู้ก่อตั้งสตูดิโอสาขาแรกเชียงใหม่ยาวต่อเนื่องถึง 8 ปี และผลิตคนเรียนเป็นครูที่ประสบความสำเร็จมาแล้วมากถึง 5 รุ่น และตอนนี้เป็นโอกาสดีที่จะเปิดเทรนครูให้ที่กรุงเทพเช่นกัน ค้นหาว่าเหตุใดการฝึกพิลาทิสกับครูเก๋ ที่เคซี อไลน์ พิลาทิส จึงเป็นอีกทางเลือกหนึ่งที่จะเริ่มต้นเป็นครูพิลาทิสที่สำเร็จเช่นกัน \n\n\n กรุณาลงทะเบียนล่วงหน้าที่นี่: https://forms.gle/DyQufsow47JuctARA \n\n\n วันอาทิตย์ที่ 2 พฤศจิกายน 2568 เวลา 10.00 โมงเช้า ถึง เที่ยง Jasmine Space ชั้น 2 ซอยอิสรภาพ 20 (ถัดจากบิ๊กซี อิสรภาพ) \n\n\n เพื่อความสะดวก เราแนะนำให้จอดรถที่บิ๊กซีอิสรภาพ ( เดินมาเพียง 1 นาที) เนื่องจากซอยค่อนข้างเล็กและที่ตึกJasmine สามารถจอดรถประมาณ 5 คัน Google Maps Big C (เดินมาเพียง 1 นาที)- https://maps.app.goo.gl/NDeihsyzQ4U5tjt8A… Google Maps KZ AligN Pilates studio (inside Jasmine Space)- https://maps.app.goo.gl/rt546HfK7w1JzCi69…**ให้เข้าทางด้านหน้าซอยอิสรภาพ 20 เท่านั้น** \n\n\n Curious about becoming a Pilates instructor? Join us for an informative Open House at the KZ AligN studio. Learn about our upcoming Pilates instructor training course in Bangkok\, tour the studio and facilities\, and meet the founder\, Kru Kea. Kea opened her first Pilates studio more than 8 years ago in Chiang Mai\, and has since trained 5 generations of successful instructors. Following the opening of a second studio location in Bangkok last year\, she is excited to share this opportunity here in Bangkok in 2025. Come to the Open House to learn more and discover why training with Kea is a great way to start your Pilates instructor journey. \n\n\nThere is no cost to attend the open house. \n\n\nPlease register in advance here: https://forms.gle/DyQufsow47JuctARA \n\n\n Sunday\, 2 November\, 2025 10:00 am to 12:00 noon Jasmine Space 2nd floor\, Itsaraphap 20 (next to Big C Itsaraphap) \n\n\n We recommend that you park at Big C Itsaraphap- 1 minute walking from our studio inside Jasmine Space. Jasmine Space has 5 parking spots available. Google Maps Big C (1 minute walk)- https://maps.app.goo.gl/NDeihsyzQ4U5tjt8A… Google Maps KZ AligN Pilates studio (inside Jasmine Space) – https://maps.app.goo.gl/rt546HfK7w1JzCi69…***If you park at Jasmine Space\, please drive through the front end of Soi Itsaraphap 20 as the back end is narrow*** \n\nOur Line :  https://page.line.me/kzpilates\n\nFor more information on our instructor training program\, go here.
URL:https://kzalignpilates.com/event/pilates-instructor-training-bangkok-open-house/
LOCATION:KZ AligN Pilates Bangkok\, 2/3 Soi Itsaraphap 20 T. Wat Kanlaya\, Thon Buri\, Bangkok\, 10600\, Thailand
ATTACH;FMTTYPE=image/png:https://kzalignpilates.com/wp-content/uploads/2025/10/2-November-House-Facebook-Event-1920-x-628-px-1-e1760586055604.png
END:VEVENT
BEGIN:VEVENT
DTSTART;TZID=Asia/Krasnoyarsk:20251019T100000
DTEND;TZID=Asia/Krasnoyarsk:20251019T120000
DTSTAMP:20260424T053240
CREATED:20250918T102124Z
LAST-MODIFIED:20250918T102124Z
UID:1082-1760868000-1760875200@kzalignpilates.com
SUMMARY:Mat Pilates and Sound Healing for Better Sleep Workshop
DESCRIPTION: มาร่วมเช้าวันพิเศษกับ Kea และ Aya เพื่อฟื้นฟูร่างกายและปลอบประโลมจิตใจของคุณเวิร์กช็อปนี้ผสานพลังของ การเคลื่อนไหวอย่างนุ่มนวล ในแบบ Mat Pilates เข้ากับประสบการณ์แห่งการเยียวยาลึกผ่าน เสียงบำบัด (Sound Healing Journey) เพื่อให้คุณได้ ผ่อนคลาย สบายมากขึ้นทั้งกายและใจร่างกาย ใจ และจิตวิญญาณ \n\n\nเราจะเริ่มต้นด้วย Mat Pilates ที่ออกแบบมาอย่างตั้งใจ เพื่อกระตุ้นพลังงานในร่างกายและสร้างความสมดุล พร้อมทั้งเตรียมใจให้พร้อมสำหรับการพักผ่อนอย่างลึกซึ้ง จากนั้นคุณจะได้เข้าสู่การเดินทางผ่านเสียง ที่ช่วยปลอบประโลมระบบประสาท และทำให้จิตใจสงบนิ่งในช่วงท้ายของเวิร์กช็อป เราจะมีช่วง ถาม-ตอบสั้น ๆ พร้อมของว่างเบา ๆ เพื่อให้คุณได้พูดคุย แลกเปลี่ยน และผ่อนคลายก่อนเริ่มต้นวันใหม่อย่างสดใสและสงบ \n\nไม่ว่าคุณจะยังใหม่กับ Mat Pilates หรือ Sound Healing หรือแค่อยากเติมเต็มตัวเองด้วยช่วงเวลาเงียบสงบในเช้านี้ — เวิร์กช็อปนี้เหมาะสำหรับคุณ\nกรุณาสวมเสื้อผ้าที่เคลื่อนไหวสะดวก เรามีเสื่อ Mat Pilates ให้พร้อม คุณเพียงแค่นำขวดน้ำและหัวใจที่เปิดรับมาด้วยก็พอค่ะ\n\n\nราคาคอร์ส 550 บาท จำนวนจำกัดจองที่นั่งได้ง่าย ๆ: เพิ่มเราในแอป LINE ส่งชื่อของคุณ และโอนเงินเพื่อยืนยันการเข้าร่วมOur LINE :  https://page.line.me/kzpilates \n\n วันอาทิตย์ที่ 19 ตุลาคม พ.ศ. 2568 เวลา 10.00 – 11.45 KZ Pilates Studio\, Star Avenue 5\, เชียงใหม่ (ทางด้านซ้ายของ 7-11)\n\n มีที่จอดรถด้านหน้าร้าน KZ Pilates หรือบริเวณใดก็ได้ในลานจอดรถ Star Avenue 5 \n\n\n Join Kea and Aya for a rejuvenating morning to nurture your body and calm your mind. This special workshop weaves together the power of slow\, mindful Mat Pilates with the deeply restorative experience of a sound healing journey. \nWe’ll begin with intentional Mat Pilates movement to awaken and align the body\, creating the foundation for deep rest. You will then be guided through a sound journey designed to soothe the nervous system and quiet the mind. \n\n\nTo close\, we’ll share a short Q&A session and light refreshments\, giving you time to connect\, ask questions\, and ease into the rest of your day with clarity and calm. \n\nWhether you’re new to Mat Pilates or sound healing\, or simply wanting a peaceful reset\, this morning is for you.\n\nPlease wear comfortable clothing you can move in. We will provide Pilates mats. Just bring a water bottle and an open heart. \n\n\nThe cost to attend the workshop is 550B. Space is limited.To reserve your spot: Add us on the LINE app\, share your name\, and e-transfer the payment.Our LINE :  https://page.line.me/kzpilates \n\n Sunday\, October 19\, 2025 10:00 am to 11:45 am KZ Pilates Studio\, Star Avenue 5\, Chiang Mai (to the left of 7-11)\n\n Parking is available directly in front of KZ Pilates or anywhere in the Star Avenue 5 lot. KZ Pilates studio – https://maps.app.goo.gl/D8Wx3wNsB95HQQbv5?g_st=ipc \nSee less
URL:https://kzalignpilates.com/event/mat-pilates-and-sound-healing-for-better-sleep-workshop/
LOCATION:KZ Pilates Chiang Mai\, Star Avenue 5 169/46 T. San Pak Wan Hang Dong\, Chiang Mai\, Chiang Mai\, 50230\, Thailand
CATEGORIES:Workshop
ATTACH;FMTTYPE=image/png:https://kzalignpilates.com/wp-content/uploads/2025/09/CM-Sleep-and-Sound-WORKSHOP-1.png
END:VEVENT
BEGIN:VEVENT
DTSTART;TZID=Asia/Krasnoyarsk:20251005T100000
DTEND;TZID=Asia/Krasnoyarsk:20251005T120000
DTSTAMP:20260424T053240
CREATED:20250912T093302Z
LAST-MODIFIED:20250912T101159Z
UID:1055-1759658400-1759665600@kzalignpilates.com
SUMMARY:เปิดบ้านครอสการอบรม ครูสอนพิลาทิส 5 ตุลาคม 2568
DESCRIPTION:เข้าร่วมงานวันเปิดบ้านครั้งสุดท้ายก่อนที่การฝึกอบรมครูสอนพิลาทิสจะเริ่มขึ้นในเร็วๆนี้ ซึ่งตอนนี้เราได้เริ่มเปิดรับสมัครแล้ว งานนี้ไม่มีค่าใช้จ่าย\n\n คุณอยากรู้เกี่ยวกับการเป็นครูผู้สอนพิลาทิสไหม? คุณสามารถเข้าร่วมกิจกรรม Open House ที่ให้ความรู้กับเราที่สตูดิโอ KZ Align Pilates ที่กรุงเทพ คุณสามารถเรียนรู้สิ่งที่จำเป็นและสำคัญเกี่ยวกับหลักสูตรการฝึกอบรมครูสอนพิลาทิสที่กำลังจะมีขึ้นในเร็วๆนี้ รวมทั้งได้ชมสตูดิโอและสิ่งอำนวยความสะดวก ซึ่งคุณจะได้พบกับครูเก๋ ผู้ก่อตั้งสตูดิโอสาขาแรกเชียงใหม่ยาวต่อเนื่องถึง 8 ปี และผลิตคนเรียนเป็นครูที่ประสบความสำเร็จมาแล้วมากถึง 5 รุ่น และตอนนี้เป็นโอกาสดีที่จะเปิดเทรนครูให้ที่กรุงเทพเช่นกัน ค้นหาว่าเหตุใดการฝึกพิลาทิสกับครูเก๋ ที่เคซี อไลน์ พิลาทิส จึงเป็นอีกทางเลือกหนึ่งที่จะเริ่มต้นเป็นครูพิลาทิสที่สำเร็จเช่นกัน\n\n กรุณาลงทะเบียนล่วงหน้าที่นี่: https://tinyurl.com/v4t8p3nh\n\n วันอาทิตย์ที่ 5 ตุลาคม 2568 เวลา 10.00 โมงเช้า ถึง เที่ยง Jasmine Space ชั้น 2 ซอยอิสรภาพ 20 (ถัดจากบิ๊กซี อิสรภาพ)
URL:https://kzalignpilates.com/event/%e0%b9%80%e0%b8%9b%e0%b8%b4%e0%b8%94%e0%b8%9a%e0%b9%89%e0%b8%b2%e0%b8%99%e0%b8%84%e0%b8%a3%e0%b8%ad%e0%b8%aa%e0%b8%81%e0%b8%b2%e0%b8%a3%e0%b8%ad%e0%b8%9a%e0%b8%a3%e0%b8%a1-%e0%b8%84%e0%b8%a3%e0%b8%b9/
LOCATION:KZ AligN Pilates Bangkok\, 2/3 Soi Itsaraphap 20 T. Wat Kanlaya\, Thon Buri\, Bangkok\, 10600\, Thailand
CATEGORIES:Open House
ATTACH;FMTTYPE=image/jpeg:https://kzalignpilates.com/wp-content/uploads/2025/09/Oct-5-Open-House-Facebook-Event-1152-x-376-px.jpg
END:VEVENT
BEGIN:VEVENT
DTSTART;TZID=Asia/Krasnoyarsk:20250928T100000
DTEND;TZID=Asia/Krasnoyarsk:20250928T120000
DTSTAMP:20260424T053240
CREATED:20250914T065654Z
LAST-MODIFIED:20250914T065654Z
UID:1066-1759053600-1759060800@kzalignpilates.com
SUMMARY:เวิร์คช็อปพิลาทิสสำหรับ ออฟฟิศซินโดรม ที่กรุงเทพ
DESCRIPTION:รู้สึกเมื่อยล้า ปวดตึง หรือหลังค่อมจากการนั่งทำงานหรือจ้องหน้าจอเป็นเวลานานใช่ไหม? มาเข้าร่วมเวิร์กช็อปพิลาทิส กับครูเก๋ผู้มีประสบการณ์มาระยะเวลายาวนานและเคซี อไลน์ พิลาทิส ทีมที่ออกแบบมาโดยเฉพาะสำหรับผู้ที่มีปัญหา ออฟฟิศซินโดรม ภาวะที่พบได้บ่อยจากการนั่งนานและการเคลื่อนไหวซ้ำ ๆ ซึ่งส่งผลให้กล้ามเนื้อไม่สมดุล ปวด และเหนื่อยล้า\n\nในคลาสนี้ คุณจะได้เรียนรู้ว่าพิลาทิสจะช่วยกล้ามเนื้อกับคนที่มีอาการ ออฟฟิศซินโดรม ได้อย่างไร และทำไมเราควรเริ่มกลับมาดูแลอาการพวกนี้อย่างจริงจังมากขึ้น นอกจากนี้ยังจะได้เรียนรู้การใช้งานกล้ามเนื้อแกนกลาง (core) ซึ่งเป็นหนึ่งในกล้ามเนื้อที่สำคัญมาก ผู้มาเข้าร่วมเวิร์คช็อปครั้งนี้ จะได้เรียนรู้วิธีการเคลื่อนไหวกล้ามเนื้ออย่างถูกต้องเพื่อจะมีส่วนช่วยในอาการที่มีอยู่นั้นให้ดีขึ้น และยังเริ่มเข้าใจเพื่อป้องกันอาการที่อาจเกิดขึ้นในอนาคต รวมถึงได้เรียนรู้การปรับบุคลิกภาพให้ดีขึ้นที่มีผลจากการนั่งทำงานนานๆในกลุ่มของผู้มีปัญหา ออฟฟิศซินโดรม เพื่อสร้างความสมดุลของร่างกายต่อไป ไม่ว่าคุณจะเป็นมือใหม่หรือเคยฝึกพิลาทิสมาบ้างแล้ว เวิร์กช็อปนี้จะช่วยให้คุณรู้สึกดีขึ้น คลายความตึง และเคลื่อนไหวได้อย่างเป็นธรรมชาติมากขึ้น\n\nราคาคอร์ส 480 บาท จำนวนจำกัด�จองที่นั่งได้ง่าย ๆ: เพิ่มเราในแอป LINE ส่งชื่อของคุณ และโอนเงินเพื่อยืนยันการเข้าร่วมOur LINE :  https://page.line.me/kzpilates\n\n วันอาทิตย์ที่ 28 กันยายน 2568 เวลา 10.00-11.45 น KZ AligN Pilates @ Jasmine Space ชั้น 2 ซอยอิสรภาพ 20 กรุงเทพ (ถัดจากบิ๊กซี อิสรภาพ)\n\n Feeling stiff\, sore\, or slouched from long hours at your desk or staring at a screen? Join studio founder\, Kea\, for a special workshop designed for those struggling with office syndrome\, caused by prolonged sitting and repetitive movements that lead to muscle imbalances\, pain\, and fatigue.\nIn this session\, you’ll learn how to move your muscles properly for relief\, and practical Pilates-based exercises you can easily incorporate into your daily routine. You’ll also learn how to activate your core for improved posture and support. Whether you’re new to Pilates or looking for targeted support\, this workshop will relieve tension and help you to move more naturally.\n\nThe cost to attend the workshop is 480B. Space is limited.To reserve your spot: Add us on the LINE app\, share your name\, and e-transfer the payment.Our LINE :  https://page.line.me/kzpilates\n\n Sunday\, September 28\, 2025 10:00 am to 11:45 am KZ AligN Pilates Studio @ Jasmine Space\, Itsaraphap 20 in Bangkok
URL:https://kzalignpilates.com/event/%e0%b9%80%e0%b8%a7%e0%b8%b4%e0%b8%a3%e0%b9%8c%e0%b8%84%e0%b8%8a%e0%b9%87%e0%b8%ad%e0%b8%9b%e0%b8%9e%e0%b8%b4%e0%b8%a5%e0%b8%b2%e0%b8%97%e0%b8%b4%e0%b8%aa%e0%b8%aa%e0%b8%b3%e0%b8%ab%e0%b8%a3%e0%b8%b1/
LOCATION:KZ AligN Pilates Bangkok\, 2/3 Soi Itsaraphap 20 T. Wat Kanlaya\, Thon Buri\, Bangkok\, 10600\, Thailand
CATEGORIES:Workshop
ATTACH;FMTTYPE=image/png:https://kzalignpilates.com/wp-content/uploads/2025/09/BKK-Office-Syndrome-Facebook-Event-1920-x-628-px-e1757831981953.png
END:VEVENT
BEGIN:VEVENT
DTSTART;TZID=Asia/Krasnoyarsk:20250907T100000
DTEND;TZID=Asia/Krasnoyarsk:20250907T120000
DTSTAMP:20260424T053240
CREATED:20250827T030619Z
LAST-MODIFIED:20250912T093330Z
UID:1038-1757239200-1757246400@kzalignpilates.com
SUMMARY:Pilates with Sati: Workshop for Office Syndrome
DESCRIPTION:Feeling stiff\, sore\, or slouched from long hours at your desk or staring at a screen? Join studio founder\, Kru Kea\, and the KZ Pilates team for a special 2-hour workshop designed for those struggling with office syndrome\, a common condition caused by prolonged sitting and repetitive movements that lead to muscle imbalances\, pain\, and fatigue.  \nIn this session\, you’ll learn how to move your muscles properly for relief\, and practical Pilates-based exercises you can easily incorporate into your daily routine. You’ll also learn how to activate your core for improved posture and support. Whether you’re new to Pilates or looking for targeted support\, this workshop will relieve tension and help you to move more naturally. \nThe cost to attend the workshop is 480B. Space is limited.  \nTo reserve your spot: Add us on the LINE app\, share your name\, and e-transfer the payment.  \nOur LINE  :  https://page.line.me/kzpilates \nSunday\, Sept 7\, 2025  \n10:00 am to 12:00 noon
URL:https://kzalignpilates.com/event/pilates-with-sati-workshop-for-office-syndrome/
LOCATION:KZ Pilates Chiang Mai\, Star Avenue 5 169/46 T. San Pak Wan Hang Dong\, Chiang Mai\, Chiang Mai\, 50230\, Thailand
CATEGORIES:Workshop
ATTACH;FMTTYPE=image/png:https://kzalignpilates.com/wp-content/uploads/2025/08/CM-Office-Syndrome-Facebook-Event-1920-x-628-px-1-e1756262983517.png
END:VEVENT
END:VCALENDAR